BEGIN:VCALENDAR
VERSION:2.0
PRODID:-//Duplo USA - ECPv6.15.20//NONSGML v1.0//EN
CALSCALE:GREGORIAN
METHOD:PUBLISH
X-WR-CALNAME:Duplo USA
X-ORIGINAL-URL:https://www.duplousa.com
X-WR-CALDESC:Events for Duplo USA
REFRESH-INTERVAL;VALUE=DURATION:PT1H
X-Robots-Tag:noindex
X-PUBLISHED-TTL:PT1H
BEGIN:VTIMEZONE
TZID:America/Los_Angeles
BEGIN:DAYLIGHT
TZOFFSETFROM:-0800
TZOFFSETTO:-0700
TZNAME:PDT
DTSTART:20220313T100000
END:DAYLIGHT
BEGIN:STANDARD
TZOFFSETFROM:-0700
TZOFFSETTO:-0800
TZNAME:PST
DTSTART:20221106T090000
END:STANDARD
BEGIN:DAYLIGHT
TZOFFSETFROM:-0800
TZOFFSETTO:-0700
TZNAME:PDT
DTSTART:20230312T100000
END:DAYLIGHT
BEGIN:STANDARD
TZOFFSETFROM:-0700
TZOFFSETTO:-0800
TZNAME:PST
DTSTART:20231105T090000
END:STANDARD
BEGIN:DAYLIGHT
TZOFFSETFROM:-0800
TZOFFSETTO:-0700
TZNAME:PDT
DTSTART:20240310T100000
END:DAYLIGHT
BEGIN:STANDARD
TZOFFSETFROM:-0700
TZOFFSETTO:-0800
TZNAME:PST
DTSTART:20241103T090000
END:STANDARD
END:VTIMEZONE
BEGIN:VEVENT
DTSTART;VALUE=DATE:20230124
DTEND;VALUE=DATE:20230126
DTSTAMP:20260421T040052
CREATED:20230109T215022Z
LAST-MODIFIED:20230116T174642Z
UID:3785-1674518400-1674691199@www.duplousa.com
SUMMARY:FastSigns International Convention 2023
DESCRIPTION:At the FASTSIGNS Convention 2023\, Duplo will be in the Ricoh booth #501 demonstrating the DC-618 Slitter/Cutter/Creaser. It’s one of the largest events of the year where FASTSIGNS franchisees and vendor partners come together for an event filled with networking\, education\, and the latest technologies.
URL:https://www.duplousa.com/event/fastsigns-international-convention-2023/
LOCATION:Caesars Forum\, 3911 Koval Lane\, Las Vegas\, 89109
CATEGORIES:Trade Show
ATTACH;FMTTYPE=image/png:https://www.duplousa.com/wp-content/uploads/2023/01/FastSigns-event-logo.png
END:VEVENT
END:VCALENDAR